View In:
ArcGIS JavaScript
ArcGIS Online Map Viewer
ArcGIS Earth
ArcMap
ArcGIS Pro
View Footprint In:
ArcGIS Online Map Viewer
Service Description: Talladega County Alabama Color Imagery for Years 2025 (South), 2024 (Central), and 2023 (North)
Map Name: AL_Talladega_Imagery_2025_2024_2023
Legend
All Layers and Tables
Layers:
Description: Talladega County Alabama Color Imagery for Years 2025 (South), 2024 (Central), and 2023 (North)
Copyright Text: KCS
Spatial Reference:
102100
(3857)
Single Fused Map Cache: true
Tile Info:
- Height: 256
- Width: 256
- DPI: 96
-
Levels of Detail: 24
-
Level ID: 1
[ Start Tile, End Tile ]
- Resolution: 78271.5169639999
- Scale: 2.95828763795777E8
-
Level ID: 2
[ Start Tile, End Tile ]
- Resolution: 39135.7584820001
- Scale: 1.47914381897889E8
-
Level ID: 3
[ Start Tile, End Tile ]
- Resolution: 19567.8792409999
- Scale: 7.3957190948944E7
-
Level ID: 4
[ Start Tile, End Tile ]
- Resolution: 9783.93962049996
- Scale: 3.6978595474472E7
-
Level ID: 5
[ Start Tile, End Tile ]
- Resolution: 4891.96981024998
- Scale: 1.8489297737236E7
- Format: JPEG
- Compression Quality: 75.0
- Origin: X: -2.0037508342787E7
Y: 2.0037508342787E7
- Spatial Reference: 102100
(3857)
Initial Extent:
XMin: -9649203.032414274
YMin: 3901888.747625136
XMax: -9533071.497640789
YMax: 3993837.079325794
Spatial Reference: 102100
(3857)
Full Extent:
XMin: -9629525.538099999
YMin: 3908952.072600007
XMax: -9550612.805200001
YMax: 3988531.884300001
Spatial Reference: 102100
(3857)
Units: esriMeters
Supported Image Format Types: PNG32,PNG24,PNG,JPG,DIB,TIFF,EMF,PS,PDF,GIF,SVG,SVGZ,BMP
Document Info:
Title: AL_Talladega_Imagery_2025_2024_2023
Author:
Comments: Talladega County Alabama Color Imagery for Years 2025 (South), 2024 (Central), and 2023 (North)
Subject: Talladega County Alabama Color Imagery for Years 2025, 2024, and 2023
Category:
Keywords: Talladega,Alabama,Imagery
AntialiasingMode: Fast
TextAntialiasingMode: Force
Supports Dynamic Layers: false
Resampling: true
MaxRecordCount: 2000
MaxImageHeight: 4096
MaxImageWidth: 4096
Supported Query Formats: JSON, geoJSON, PBF
Supports Query Data Elements: true
Min Scale: 5.91657527591555E8
Max Scale: 70.5310735
Supports Datum Transformation: true
Child Resources:
Info
Supported Operations:
Export Map
Identify
QueryDomains
QueryLegends
Return Updates