View In:
ArcGIS JavaScript
ArcGIS Online Map Viewer
ArcGIS Earth
ArcMap
ArcGIS Pro
View Footprint In:
ArcGIS Online Map Viewer
Service Description: 2021 .25 foot color imagery of Central third of Talladega County, 2023 .25 foot color imagery of Northern third of Talladega County, 2022 .25 foot imagery of Southern third of Talladega County. Imagery source from G-Squared.
Map Name: AL_Talladega_Imagery_2023_2022_2021
Legend
All Layers and Tables
Layers:
Description: 2021 .25 foot color imagery of Central third of Talladega County, 2023 .25 foot color imagery of Northern third of Talladega County, 2022 .25 foot imagery of Southern third of Talladega County. Imagery source from G-Squared.
Copyright Text: KCS, G-Squared
Spatial Reference:
102100
(3857)
Single Fused Map Cache: true
Tile Info:
- Height: 256
- Width: 256
- DPI: 96
-
Levels of Detail: 24
-
Level ID: 1
[ Start Tile, End Tile ]
- Resolution: 78271.5169639999
- Scale: 2.95828763795777E8
-
Level ID: 2
[ Start Tile, End Tile ]
- Resolution: 39135.7584820001
- Scale: 1.47914381897889E8
-
Level ID: 3
[ Start Tile, End Tile ]
- Resolution: 19567.8792409999
- Scale: 7.3957190948944E7
-
Level ID: 4
[ Start Tile, End Tile ]
- Resolution: 9783.93962049996
- Scale: 3.6978595474472E7
-
Level ID: 5
[ Start Tile, End Tile ]
- Resolution: 4891.96981024998
- Scale: 1.8489297737236E7
- Format: JPEG
- Compression Quality: 75.0
- Origin: X: -2.0037508342787E7
Y: 2.0037508342787E7
- Spatial Reference: 102100
(3857)
Initial Extent:
XMin: -9641927.545883875
YMin: 3904973.0820150073
XMax: -9538210.797416124
YMax: 3992510.8748850008
Spatial Reference: 102100
(3857)
Full Extent:
XMin: -9629525.538099999
YMin: 3908952.072600007
XMax: -9550612.805200001
YMax: 3988531.884300001
Spatial Reference: 102100
(3857)
Units: esriMeters
Supported Image Format Types: PNG32,PNG24,PNG,JPG,DIB,TIFF,EMF,PS,PDF,GIF,SVG,SVGZ,BMP
Document Info:
Title: AL_Talladega_Imagery_2023_2022_2021
Author:
Comments: 2021 .25 foot color imagery of Central third of Talladega County, 2023 .25 foot color imagery of Northern third of Talladega County, 2022 .25 foot imagery of Southern third of Talladega County. Imagery source from G-Squared.
Subject: Cached map service for Talladega County's 2021, 2022, and 2023 Imagery
Category:
Keywords: Talladega,Alabama,Imagery,GIS,2023
AntialiasingMode: Fast
TextAntialiasingMode: Force
Supports Dynamic Layers: false
MaxRecordCount: 2000
MaxImageHeight: 4096
MaxImageWidth: 4096
Supported Query Formats: JSON, geoJSON, PBF
Supports Query Data Elements: true
Min Scale: 5.91657527591555E8
Max Scale: 70.5310735
Supports Datum Transformation: true
Child Resources:
Info
Supported Operations:
Export Map
Return Updates