View In:
ArcGIS JavaScript
ArcGIS Online Map Viewer
ArcGIS Earth
ArcMap
ArcGIS Pro
View Footprint In:
ArcGIS Online Map Viewer
Service Description: 2021 .25 foot color imagery of Central third of Talladega County, 2020 .25 foot color imagery of Northern third of Talladega County, 2022 .25 foot imagery of Southern third of Talladega County. Imagery source from G-Squared.
Map Name: Layers
Legend
All Layers and Tables
Layers:
Description:
Copyright Text: KCS, G-Squared
Spatial Reference:
102100
(3857)
Single Fused Map Cache: true
Tile Info:
- Height: 256
- Width: 256
- DPI: 96
-
Levels of Detail: 24
-
Level ID: 0
[ Start Tile, End Tile ]
- Resolution: 156543.03392800014
- Scale: 5.91657527591555E8
-
Level ID: 1
[ Start Tile, End Tile ]
- Resolution: 78271.51696399994
- Scale: 2.95828763795777E8
-
Level ID: 2
[ Start Tile, End Tile ]
- Resolution: 39135.75848200009
- Scale: 1.47914381897889E8
-
Level ID: 3
[ Start Tile, End Tile ]
- Resolution: 19567.87924099992
- Scale: 7.3957190948944E7
-
Level ID: 4
[ Start Tile, End Tile ]
- Resolution: 9783.93962049996
- Scale: 3.6978595474472E7
-
Level ID: 5
[ Start Tile, End Tile ]
- Resolution: 4891.96981024998
- Scale: 1.8489297737236E7
- Format: JPEG
- Compression Quality: 90.0
- Origin: X: -2.0037508342787E7
Y: 2.0037508342787E7
- Spatial Reference: 102100
(3857)
Initial Extent:
XMin: -9652660.53874341
YMin: 3931603.7055108007
XMax: -9527809.448552277
YMax: 3992787.8335163984
Spatial Reference: 102100
Full Extent:
XMin: -9629525.538099999
YMin: 3908952.072600007
XMax: -9550612.805200001
YMax: 3988531.884300001
Spatial Reference: 102100
Units: esriMeters
Supported Image Format Types: PNG32,PNG24,PNG,JPG,DIB,TIFF,EMF,PS,PDF,GIF,SVG,SVGZ,BMP
Document Info:
Title: Talladega Imagery 2022
Author: KCS
Comments: 2021 .25 foot color imagery of Central third of Talladega County, 2020 .25 foot color imagery of Northern third of Talladega County, 2022 .25 foot imagery of Southern third of Talladega County. Imagery source from G-Squared.
Subject: Cached maps service for Talladega County's 2020, 2021, and 2022 Imagery
Category:
Keywords: Talladega,Alabama,Imagery,GIS,2022
AntialiasingMode: None
TextAntialiasingMode: Force
Supports Dynamic Layers: false
MaxRecordCount: 1000
MaxImageHeight: 4096
MaxImageWidth: 4096
Supported Query Formats: JSON, geoJSON
Supports Query Data Elements:
Min Scale: 5.91657527591555E8
Max Scale: 70.5310735
Supports Datum Transformation: true
Child Resources:
Info
Supported Operations:
Export Map
Identify
QueryDomains
QueryLegends
Find
Return Updates